BEGIN:VCALENDAR
VERSION:2.0
PRODID:-//www.portlanddeafchurch.com//NONSGML kigkonsult.se iCalcreator 2.3
 9.1//
CALSCALE:GREGORIAN
METHOD:PUBLISH
UID:da7765da-54aa-454d-84d8-b46d345cb393
X-WR-CALNAME:www.portlanddeafchurch.com
X-WR-CALDESC:www.portlanddeafchurch.com
X-WR-TIMEZONE:America/Los_Angeles
X-LIC-LOCATION:America/Los_Angeles
BEGIN:VEVENT
UID:7acca7ee-ca88-45a8-9df8-77155854f151
DTSTAMP:20260419T175355Z
CLASS:PUBLIC
DTSTART;TZID=America/Los_Angeles:20260419T093000
DTEND;TZID=America/Los_Angeles:20260419T103000
SUMMARY:Sunday Morning Bible Class
TRANSP:OPAQUE
BEGIN:VALARM
ACTION:DISPLAY
DESCRIPTION:Sunday Morning Bible Class
TRIGGER:-PT15M
END:VALARM
END:VEVENT
END:VCALENDAR
